BEGIN:VCALENDAR
VERSION:2.0
PRODID:spatie/icalendar-generator
DESCRIPTION:Évènements de Louis Mazetier - Pianiste de Stride
X-WR-CALDESC:Évènements de Louis Mazetier - Pianiste de Stride
REFRESH-INTERVAL;VALUE=DURATION:PT1440M
X-PUBLISHED-TTL:PT1440M
BEGIN:VTIMEZONE
TZID:Europe/Paris
BEGIN:DAYLIGHT
DTSTART:20230326T020000Z
TZOFFSETFROM:+0100
TZOFFSETTO:+0200
END:DAYLIGHT
BEGIN:STANDARD
DTSTART:20231029T030000Z
TZOFFSETFROM:+0200
TZOFFSETTO:+0100
END:STANDARD
BEGIN:DAYLIGHT
DTSTART:20240331T020000Z
TZOFFSETFROM:+0100
TZOFFSETTO:+0200
END:DAYLIGHT
END:VTIMEZONE
BEGIN:VTIMEZONE
TZID:UTC
BEGIN:STANDARD
DTSTART:20250725T200241Z
TZOFFSETFROM:+0000
TZOFFSETTO:+0000
END:STANDARD
END:VTIMEZONE
BEGIN:VEVENT
UID:37-31
DTSTAMP:20260421T200241Z
SUMMARY:Trio Pastre-Mazetier-Nouaux au Festival de Arcachon
LOCATION:Théâtre Olympia d\\'Arcachon 21 Av. du Général de Gaulle  Arca
 chon  33120
ORGANIZER;CN=ome:MAILTO:omer92@free.fr
DTSTART;TZID=Europe/Paris:20231209T200000
DTEND;TZID=Europe/Paris:20231209T210000
X-ALT-DESC;FMTTYPE=TEXT/HTML:Michel PASTRE : saxophone ténor Louis MAZETIE
 R : piano Guillaume NOUAUX : batterie
CATEGORIES:Trio Pastre Mazetier Nouaux
URL;VALUE=URI:http://www.mazetier.com/mc-events/trio-pastre-mazetier-nouaux
 -au-festival-de-arcachon/
METHOD:PUBLISH
END:VEVENT
END:VCALENDAR