BEGIN:VCALENDAR
VERSION:2.0
PRODID:spatie/icalendar-generator
DESCRIPTION:Évènements de Louis Mazetier - Pianiste de Stride
X-WR-CALDESC:Évènements de Louis Mazetier - Pianiste de Stride
REFRESH-INTERVAL;VALUE=DURATION:PT1440M
X-PUBLISHED-TTL:PT1440M
BEGIN:VTIMEZONE
TZID:Europe/Paris
BEGIN:DAYLIGHT
DTSTART:20230326T020000Z
TZOFFSETFROM:+0100
TZOFFSETTO:+0200
END:DAYLIGHT
BEGIN:STANDARD
DTSTART:20231029T030000Z
TZOFFSETFROM:+0200
TZOFFSETTO:+0100
END:STANDARD
BEGIN:DAYLIGHT
DTSTART:20240331T020000Z
TZOFFSETFROM:+0100
TZOFFSETTO:+0200
END:DAYLIGHT
END:VTIMEZONE
BEGIN:VTIMEZONE
TZID:UTC
BEGIN:STANDARD
DTSTART:20250725T164822Z
TZOFFSETFROM:+0000
TZOFFSETTO:+0000
END:STANDARD
END:VTIMEZONE
BEGIN:VEVENT
UID:35-32
DTSTAMP:20260421T164822Z
SUMMARY:Paris WashBoard au Petit Journal St Michel (Paris\, France)
LOCATION:Le Petit Jounal St Michel 71\, boulevard Saint-Michel  Paris  7500
 5
ORGANIZER;CN=ome:MAILTO:omer92@free.fr
DTSTART;TZID=Europe/Paris:20231013T200000
DTEND;TZID=Europe/Paris:20231013T210000
X-ALT-DESC;FMTTYPE=TEXT/HTML:
CATEGORIES:Avec le Paris WashBoard
URL;VALUE=URI:http://www.mazetier.com/mc-events/paris-washboard-au-petit-jo
 urnal-st-michel-paris-france/
METHOD:PUBLISH
END:VEVENT
END:VCALENDAR