BEGIN:VCALENDAR
VERSION:2.0
PRODID:spatie/icalendar-generator
DESCRIPTION:Évènements de Louis Mazetier - Pianiste de Stride
X-WR-CALDESC:Évènements de Louis Mazetier - Pianiste de Stride
REFRESH-INTERVAL;VALUE=DURATION:PT1440M
X-PUBLISHED-TTL:PT1440M
BEGIN:VTIMEZONE
TZID:Europe/Paris
BEGIN:DAYLIGHT
DTSTART:20230326T020000Z
TZOFFSETFROM:+0100
TZOFFSETTO:+0200
END:DAYLIGHT
BEGIN:STANDARD
DTSTART:20231029T030000Z
TZOFFSETFROM:+0200
TZOFFSETTO:+0100
END:STANDARD
BEGIN:DAYLIGHT
DTSTART:20240331T020000Z
TZOFFSETFROM:+0100
TZOFFSETTO:+0200
END:DAYLIGHT
END:VTIMEZONE
BEGIN:VTIMEZONE
TZID:UTC
BEGIN:STANDARD
DTSTART:20250725T151118Z
TZOFFSETFROM:+0000
TZOFFSETTO:+0000
END:STANDARD
END:VTIMEZONE
BEGIN:VEVENT
UID:32-29
DTSTAMP:20260421T151118Z
SUMMARY:Trio avec Michel Pastre\, Guillaume Nouaux et Louis Mazetier (Nouve
 l Album!)
LOCATION:Péniche Le son de la Terre 2 Port Montebello  Paris  75005
ORGANIZER;CN=ome:MAILTO:omer92@free.fr
DTSTART;TZID=Europe/Paris:20231006T200000
DTEND;TZID=Europe/Paris:20231006T235900
X-ALT-DESC;FMTTYPE=TEXT/HTML:Concert de sortie de notre nouveau CD/Album à
  se faire dédicacer sur place ! De quoi devenir millionnaire (potentielle
 ment) pour les heureux acheteurs !
CATEGORIES:,  Trio Pastre Mazetier Nouaux
URL;VALUE=URI:http://www.mazetier.com/mc-events/trio-avec-michel-pastre-gui
 llaume-nouaux-et-louis-mazetier-nouvel-album/
METHOD:PUBLISH
END:VEVENT
END:VCALENDAR