BEGIN:VCALENDAR
VERSION:2.0
PRODID:spatie/icalendar-generator
DESCRIPTION:Évènements de Louis Mazetier - Pianiste de Stride
X-WR-CALDESC:Évènements de Louis Mazetier - Pianiste de Stride
REFRESH-INTERVAL;VALUE=DURATION:PT1440M
X-PUBLISHED-TTL:PT1440M
BEGIN:VTIMEZONE
TZID:Europe/Paris
BEGIN:DAYLIGHT
DTSTART:20230326T020000Z
TZOFFSETFROM:+0100
TZOFFSETTO:+0200
END:DAYLIGHT
BEGIN:STANDARD
DTSTART:20231029T030000Z
TZOFFSETFROM:+0200
TZOFFSETTO:+0100
END:STANDARD
END:VTIMEZONE
BEGIN:VTIMEZONE
TZID:UTC
BEGIN:STANDARD
DTSTART:20250725T135854Z
TZOFFSETFROM:+0000
TZOFFSETTO:+0000
END:STANDARD
END:VTIMEZONE
BEGIN:VEVENT
UID:30-28
DTSTAMP:20260421T135854Z
SUMMARY:Concert à deux pianos avec Bernd Lhotzky à Bulach (Suisse)
LOCATION:
ORGANIZER;CN=ome:MAILTO:omer92@free.fr
DTSTART;TZID=Europe/Paris;VALUE=DATE:20230922
DTEND;TZID=Europe/Paris;VALUE=DATE:20230923
X-ALT-DESC;FMTTYPE=TEXT/HTML:
CATEGORIES:Concert de Pianistes,  Louis Mazetier + Bernd Lhotzky
URL;VALUE=URI:http://www.mazetier.com/mc-events/concert-a-deux-pianos-avec-
 bernd-lhotzky-a-bulach-suisse/
METHOD:PUBLISH
END:VEVENT
END:VCALENDAR