BEGIN:VCALENDAR
VERSION:2.0
PRODID:spatie/icalendar-generator
DESCRIPTION:Évènements de Louis Mazetier - Pianiste de Stride
X-WR-CALDESC:Évènements de Louis Mazetier - Pianiste de Stride
REFRESH-INTERVAL;VALUE=DURATION:PT1440M
X-PUBLISHED-TTL:PT1440M
BEGIN:VTIMEZONE
TZID:Europe/Paris
BEGIN:DAYLIGHT
DTSTART:20230326T020000Z
TZOFFSETFROM:+0100
TZOFFSETTO:+0200
END:DAYLIGHT
BEGIN:STANDARD
DTSTART:20231029T030000Z
TZOFFSETFROM:+0200
TZOFFSETTO:+0100
END:STANDARD
END:VTIMEZONE
BEGIN:VTIMEZONE
TZID:UTC
BEGIN:STANDARD
DTSTART:20250725T091522Z
TZOFFSETFROM:+0000
TZOFFSETTO:+0000
END:STANDARD
END:VTIMEZONE
BEGIN:VEVENT
UID:28-27
DTSTAMP:20260421T091522Z
SUMMARY:Concert duo de pianos Bulach Suisse avec Bernd Lhotzky
LOCATION:
ORGANIZER;CN=louispianiste:MAILTO:rx.louvre@wanadoo.fr
DTSTART;TZID=Europe/Paris:20230813T000000
DTEND;TZID=Europe/Paris:20230813T010000
X-ALT-DESC;FMTTYPE=TEXT/HTML:
CATEGORIES:
URL;VALUE=URI:http://www.mazetier.com/mc-events/concert-duo-de-pianos-bulac
 h-suisse-avec-bernd-lhotzky/
METHOD:PUBLISH
END:VEVENT
END:VCALENDAR