BEGIN:VCALENDAR
VERSION:2.0
PRODID:spatie/icalendar-generator
DESCRIPTION:Évènements de Louis Mazetier - Pianiste de Stride
X-WR-CALDESC:Évènements de Louis Mazetier - Pianiste de Stride
REFRESH-INTERVAL;VALUE=DURATION:PT1440M
X-PUBLISHED-TTL:PT1440M
BEGIN:VTIMEZONE
TZID:Europe/Paris
BEGIN:STANDARD
DTSTART:20191027T030000Z
TZOFFSETFROM:+0200
TZOFFSETTO:+0100
END:STANDARD
BEGIN:DAYLIGHT
DTSTART:20200329T020000Z
TZOFFSETFROM:+0100
TZOFFSETTO:+0200
END:DAYLIGHT
END:VTIMEZONE
BEGIN:VTIMEZONE
TZID:UTC
BEGIN:STANDARD
DTSTART:20250725T231908Z
TZOFFSETFROM:+0000
TZOFFSETTO:+0000
END:STANDARD
END:VTIMEZONE
BEGIN:VEVENT
UID:20-19
DTSTAMP:20260421T231908Z
SUMMARY:Petit Journal - Saint Michel Sextet Longnon
LOCATION:
ORGANIZER;CN=louispianiste:MAILTO:rx.louvre@wanadoo.fr
DTSTART;TZID=Europe/Paris;VALUE=DATE:20200219
DTEND;TZID=Europe/Paris;VALUE=DATE:20200220
X-ALT-DESC;FMTTYPE=TEXT/HTML:
CATEGORIES:General
URL;VALUE=URI:http://www.mazetier.com/mc-events/petit-journal-saint-michel-
 sextet-longnon/
METHOD:PUBLISH
END:VEVENT
END:VCALENDAR