BEGIN:VCALENDAR
VERSION:2.0
PRODID:spatie/icalendar-generator
DESCRIPTION:Évènements de Louis Mazetier - Pianiste de Stride
X-WR-CALDESC:Évènements de Louis Mazetier - Pianiste de Stride
REFRESH-INTERVAL;VALUE=DURATION:PT1440M
X-PUBLISHED-TTL:PT1440M
BEGIN:VTIMEZONE
TZID:Europe/Paris
BEGIN:DAYLIGHT
DTSTART:20230326T020000Z
TZOFFSETFROM:+0100
TZOFFSETTO:+0200
END:DAYLIGHT
BEGIN:STANDARD
DTSTART:20231029T030000Z
TZOFFSETFROM:+0200
TZOFFSETTO:+0100
END:STANDARD
END:VTIMEZONE
BEGIN:VTIMEZONE
TZID:UTC
BEGIN:STANDARD
DTSTART:20250725T134415Z
TZOFFSETFROM:+0000
TZOFFSETTO:+0000
END:STANDARD
END:VTIMEZONE
BEGIN:VEVENT
UID:27-26
DTSTAMP:20260421T134415Z
SUMMARY:Petit Journal Saint Michel 1 septembre 2023
LOCATION:
ORGANIZER;CN=louispianiste:MAILTO:rx.louvre@wanadoo.fr
DTSTART;TZID=Europe/Paris;VALUE=DATE:20230813
DTEND;TZID=Europe/Paris;VALUE=DATE:20230814
X-ALT-DESC;FMTTYPE=TEXT/HTML:
CATEGORIES:
URL;VALUE=URI:http://www.mazetier.com/mc-events/petit-journal-saint-michel-
 1-septembre-2023/
METHOD:PUBLISH
END:VEVENT
END:VCALENDAR